BEGIN:VCALENDAR
VERSION:2.0
PRODID:-//Fraunhofer-Gesellschaft//Fraunhofer Institute for Digital Medicin
 e MEVIS//EN
BEGIN:VEVENT
UID:fb0ad99d-3685-4202-ac0f-ed8b7c336655
DTSTAMP:20260410T173405Z
SUMMARY:Meet us @ DMEA 2026
DTSTART:20260421T050000Z
DTEND:20260423T170000Z
END:VEVENT
END:VCALENDAR
