BEGIN:VCALENDAR
VERSION:2.0
PRODID:-//Fraunhofer-Gesellschaft//Fraunhofer Institute for Digital Medicin
 e MEVIS//EN
BEGIN:VEVENT
UID:431466b6-da5c-420b-a81e-0c6f0fc405b3
DTSTAMP:20260328T193708Z
SUMMARY:Fraunhofer MEVIS @ ISBI 2026
DTSTART:20260408T050000Z
DTEND:20260411T170000Z
END:VEVENT
END:VCALENDAR
