BEGIN:VCALENDAR
VERSION:2.0
PRODID:-//Fraunhofer-Gesellschaft//Fraunhofer Institute for Digital Medicin
 e MEVIS//EN
BEGIN:VEVENT
UID:f79c3d9a-4e1a-4c5e-8343-fb5584e7a115
DTSTAMP:20260209T165851Z
SUMMARY:SPIE Medical Imaging 2026
DTSTART:20260215T060000Z
DTEND:20260219T180000Z
END:VEVENT
END:VCALENDAR
